Workbook

Sheet 月報(日本人)
B2: 住民基本台帳【日本人住民】 | E2: 令和8年8月末日現在
B6: 区分 | C6: 人 口 | F6: 世帯数 | G6: 前月 | H6: 前月 | I6: 前月 | J6: 前月
B7: 市区町村名 | C7: 男 | D7: 女 | E7: 計 | G7: 人口数 | H7: 世帯数 | I7: 人口増減 | J7: 世帯増減
B8: 北九州市 | C8: 417407 | D8: 463423 | E8: 880830 | F8: 472373 | G8: 881418 | H8: 472610 | I8: -588 | J8: -237
B9: 門司区 | C9: 40330 | D9: 46869 | E9: 87199 | F9: 47169 | G9: 87341 | H9: 47239 | I9: -142 | J9: -70
B10: 若松区 | C10: 36082 | D10: 39164 | E10: 75246 | F10: 38264 | G10: 75307 | H10: 38289 | I10: -61 | J10: -25
B11: 戸畑区 | C11: 25255 | D11: 27511 | E11: 52766 | F11: 28714 | G11: 52801 | H11: 28752 | I11: -35 | J11: -38
B12: 小倉北区 | C12: 80419 | D12: 89772 | E12: 170191 | F12: 100258 | G12: 170277 | H12: 100276 | I12: -86 | J12: -18
B13: 小倉南区 | C13: 95141 | D13: 104088 | E13: 199229 | F13: 102656 | G13: 199303 | H13: 102673 | I13: -74 | J13: -17
B14: 八幡東区 | C14: 28169 | D14: 31435 | E14: 59604 | F14: 32856 | G14: 59661 | H14: 32878 | I14: -57 | J14: -22
B15: 八幡西区 | C15: 112011 | D15: 124584 | E15: 236595 | F15: 122456 | G15: 236728 | H15: 122503 | I15: -133 | J15: -47
B16: 福岡市 | C16: 739278 | D16: 826963 | E16: 1566241 | F16: 853717 | G16: 1566396 | H16: 853832 | I16: -155 | J16: -115
B17: 東区 | C17: 154713 | D17: 165333 | E17: 320046 | F17: 167203 | G17: 320129 | H17: 167214 | I17: -83 | J17: -11
B18: 博多区 | C18: 113821 | D18: 122203 | E18: 236024 | F18: 149736 | G18: 236128 | H18: 149865 | I18: -104 | J18: -129
B19: 中央区 | C19: 86632 | D19: 107889 | E19: 194521 | F19: 121166 | G19: 194581 | H19: 121229 | I19: -60 | J19: -63
... B84: 県計 | C84: 2347657 | D84: 2590496 | E84: 4938153 | F84: 2510076 | G84: 4940029 | H84: 2510519 | I84: -1876 | J84: -443

Sheet 月報(外国人) 
B2: 住民基本台帳【外国人住民】 | E2: ='月報(日本人)'!E2 -> 令和8年8月末日現在
B6: 区分 | C6: 人 口 | F6: 世帯数 | G6: 前月 | H6: 前月 | I6: 前月 | J6: 前月
B7: 市区町村名 | C7: 男 | D7: 女 | E7: 計 | G7: 人口数 | H7: 世帯数 | I7: 人口増減 | J7: 世帯増減
B8: 北九州市 | C8: 10554 | D8: 8494 | E8: 19048 | F8: 14396 | G8: 18992 | H8: 14338 | I8: 56 | J8: 58
B9: 門司区 | C9: 812 | D9: 587 | E9: 1399 | F9: 1014 | G9: 1394 | H9: 1015 | I9: 5 | J9: -1
B10: 若松区 | C10: 1344 | D10: 628 | E10: 1972 | F10: 1642 | G10: 1998 | H10: 1669 | I10: -26 | J10: -27
B11: 戸畑区 | C11: 535 | D11: 423 | E11: 958 | F11: 685 | G11: 963 | H11: 687 | I11: -5 | J11: -2
B12: 小倉北区 | C12: 3360 | D12: 3250 | E12: 6610 | F12: 4905 | G12: 6565 | H12: 4864 | I12: 45 | J12: 41
B13: 小倉南区 | C13: 1399 | D13: 1049 | E13: 2448 | F13: 1859 | G13: 2429 | H13: 1844 | I13: 19 | J13: 15
B14: 八幡東区 | C14: 657 | D14: 417 | E14: 1074 | F14: 837 | G14: 1070 | H14: 823 | I14: 4 | J14: 14
B15: 八幡西区 | C15: 2447 | D15: 2140 | E15: 4587 | F15: 3454 | G15: 4573 | H15: 3436 | I15: 14 | J15: 18
B16: 福岡市 | C16: 31722 | D16: 29643 | E16: 61365 | F16: 45464 | G16: 61656 | H16: 45826 | I16: -291 | J16: -362
B17: 東区 | C17: 8840 | D17: 8245 | E17: 17085 | F17: 12097 | G17: 17181 | H17: 12219 | I17: -96 | J17: -122
B18: 博多区 | C18: 7862 | D18: 7390 | E18: 15252 | F18: 12091 | G18: 15318 | H18: 12149 | I18: -66 | J18: -58
B19: 中央区 | C19: 3976 | D19: 3700 | E19: 7676 | F19: 5754 | G19: 7674 | H19: 5756 | I19: 2 | J19: -2
... B84: 県計 | C84: 67975 | D84: 61822 | E84: 129797 | F84: 98584 | G84: 129869 | H84: 98777 | I84: -72 | J84: -193

Sheet 月報(合計)
B2: 住民基本台帳【合計】 | E2: ='月報(日本人)'!E2 -> 令和8年8月末日現在
B6: 区分 | C6: 人 口 | F6: 世帯数 | G6: 前月 | H6: 前月 | I6: 前月 | J6: 前月
B7: 市区町村名 | C7: 男 | D7: 女 | E7: 計 | G7: 人口数 | H7: 世帯数 | I7: 人口増減 | J7: 世帯増減
B8: 北九州市 | C8: ='月報(日本人)'!C8+'月報(外国人) '!C8 -> 427961 | D8: ='月報(日本人)'!D8+'月報(外国人) '!D8 -> 471917 | E8: ='月報(日本人)'!E8+'月報(外国人) '!E8 -> 899878 | F8: ='月報(日本人)'!F8+'月報(外国人) '!F8 -> 486769 | G8: ='月報(日本人)'!G8+'月報(外国人) '!G8 -> 900410 | H8: ='月報(日本人)'!H8+'月報(外国人) '!H8 -> 486948 | I8: ='月報(日本人)'!I8+'月報(外国人) '!I8 -> -532 | J8: ='月報(日本人)'!J8+'月報(外国人) '!J8 -> -179
B9: 門司区 | C9: ='月報(日本人)'!C9+'月報(外国人) '!C9 -> 41142 | D9: ='月報(日本人)'!D9+'月報(外国人) '!D9 -> 47456 | E9: ='月報(日本人)'!E9+'月報(外国人) '!E9 -> 88598 | F9: ='月報(日本人)'!F9+'月報(外国人) '!F9 -> 48183 | G9: ='月報(日本人)'!G9+'月報(外国人) '!G9 -> 88735 | H9: ='月報(日本人)'!H9+'月報(外国人) '!H9 -> 48254 | I9: ='月報(日本人)'!I9+'月報(外国人) '!I9 -> -137 | J9: ='月報(日本人)'!J9+'月報(外国人) '!J9 -> -71
B10: 若松区 | C10: ='月報(日本人)'!C10+'月報(外国人) '!C10 -> 37426 | D10: ='月報(日本人)'!D10+'月報(外国人) '!D10 -> 39792 | E10: ='月報(日本人)'!E10+'月報(外国人) '!E10 -> 77218 | F10: ='月報(日本人)'!F10+'月報(外国人) '!F10 -> 39906 | G10: ='月報(日本人)'!G10+'月報(外国人) '!G10 -> 77305 | H10: ='月報(日本人)'!H10+'月報(外国人) '!H10 -> 39958 | I10: ='月報(日本人)'!I10+'月報(外国人) '!I10 -> -87 | J10: ='月報(日本人)'!J10+'月報(外国人) '!J10 -> -52
B11: 戸畑区 | C11: ='月報(日本人)'!C11+'月報(外国人) '!C11 -> 25790 | D11: ='月報(日本人)'!D11+'月報(外国人) '!D11 -> 27934 | E11: ='月報(日本人)'!E11+'月報(外国人) '!E11 -> 53724 | F11: ='月報(日本人)'!F11+'月報(外国人) '!F11 -> 29399 | G11: ='月報(日本人)'!G11+'月報(外国人) '!G11 -> 53764 | H11: ='月報(日本人)'!H11+'月報(外国人) '!H11 -> 29439 | I11: ='月報(日本人)'!I11+'月報(外国人) '!I11 -> -40 | J11: ='月報(日本人)'!J11+'月報(外国人) '!J11 -> -40
B12: 小倉北区 | C12: ='月報(日本人)'!C12+'月報(外国人) '!C12 -> 83779 | D12: ='月報(日本人)'!D12+'月報(外国人) '!D12 -> 93022 | E12: ='月報(日本人)'!E12+'月報(外国人) '!E12 -> 176801 | F12: ='月報(日本人)'!F12+'月報(外国人) '!F12 -> 105163 | G12: ='月報(日本人)'!G12+'月報(外国人) '!G12 -> 176842 | H12: ='月報(日本人)'!H12+'月報(外国人) '!H12 -> 105140 | I12: ='月報(日本人)'!I12+'月報(外国人) '!I12 -> -41 | J12: ='月報(日本人)'!J12+'月報(外国人) '!J12 -> 23
B13: 小倉南区 | C13: ='月報(日本人)'!C13+'月報(外国人) '!C13 -> 96540 | D13: ='月報(日本人)'!D13+'月報(外国人) '!D13 -> 105137 | E13: ='月報(日本人)'!E13+'月報(外国人) '!E13 -> 201677 | F13: ='月報(日本人)'!F13+'月報(外国人) '!F13 -> 104515 | G13: ='月報(日本人)'!G13+'月報(外国人) '!G13 -> 201732 | H13: ='月報(日本人)'!H13+'月報(外国人) '!H13 -> 104517 | I13: ='月報(日本人)'!I13+'月報(外国人) '!I13 -> -55 | J13: ='月報(日本人)'!J13+'月報(外国人) '!J13 -> -2
B14: 八幡東区 | C14: ='月報(日本人)'!C14+'月報(外国人) '!C14 -> 28826 | D14: ='月報(日本人)'!D14+'月報(外国人) '!D14 -> 31852 | E14: ='月報(日本人)'!E14+'月報(外国人) '!E14 -> 60678 | F14: ='月報(日本人)'!F14+'月報(外国人) '!F14 -> 33693 | G14: ='月報(日本人)'!G14+'月報(外国人) '!G14 -> 60731 | H14: ='月報(日本人)'!H14+'月報(外国人) '!H14 -> 33701 | I14: ='月報(日本人)'!I14+'月報(外国人) '!I14 -> -53 | J14: ='月報(日本人)'!J14+'月報(外国人) '!J14 -> -8
B15: 八幡西区 | C15: ='月報(日本人)'!C15+'月報(外国人) '!C15 -> 114458 | D15: ='月報(日本人)'!D15+'月報(外国人) '!D15 -> 126724 | E15: ='月報(日本人)'!E15+'月報(外国人) '!E15 -> 241182 | F15: ='月報(日本人)'!F15+'月報(外国人) '!F15 -> 125910 | G15: ='月報(日本人)'!G15+'月報(外国人) '!G15 -> 241301 | H15: ='月報(日本人)'!H15+'月報(外国人) '!H15 -> 125939 | I15: ='月報(日本人)'!I15+'月報(外国人) '!I15 -> -119 | J15: ='月報(日本人)'!J15+'月報(外国人) '!J15 -> -29
B16: 福岡市 | C16: ='月報(日本人)'!C16+'月報(外国人) '!C16 -> 771000 | D16: ='月報(日本人)'!D16+'月報(外国人) '!D16 -> 856606 | E16: ='月報(日本人)'!E16+'月報(外国人) '!E16 -> 1627606 | F16: ='月報(日本人)'!F16+'月報(外国人) '!F16 -> 899181 | G16: ='月報(日本人)'!G16+'月報(外国人) '!G16 -> 1628052 | H16: ='月報(日本人)'!H16+'月報(外国人) '!H16 -> 899658 | I16: ='月報(日本人)'!I16+'月報(外国人) '!I16 -> -446 | J16: ='月報(日本人)'!J16+'月報(外国人) '!J16 -> -477
B17: 東区 | C17: ='月報(日本人)'!C17+'月報(外国人) '!C17 -> 163553 | D17: ='月報(日本人)'!D17+'月報(外国人) '!D17 -> 173578 | E17: ='月報(日本人)'!E17+'月報(外国人) '!E17 -> 337131 | F17: ='月報(日本人)'!F17+'月報(外国人) '!F17 -> 179300 | G17: ='月報(日本人)'!G17+'月報(外国人) '!G17 -> 337310 | H17: ='月報(日本人)'!H17+'月報(外国人) '!H17 -> 179433 | I17: ='月報(日本人)'!I17+'月報(外国人) '!I17 -> -179 | J17: ='月報(日本人)'!J17+'月報(外国人) '!J17 -> -133
B18: 博多区 | C18: ='月報(日本人)'!C18+'月報(外国人) '!C18 -> 121683 | D18: ='月報(日本人)'!D18+'月報(外国人) '!D18 -> 129593 | E18: ='月報(日本人)'!E18+'月報(外国人) '!E18 -> 251276 | F18: ='月報(日本人)'!F18+'月報(外国人) '!F18 -> 161827 | G18: ='月報(日本人)'!G18+'月報(外国人) '!G18 -> 251446 | H18: ='月報(日本人)'!H18+'月報(外国人) '!H18 -> 162014 | I18: ='月報(日本人)'!I18+'月報(外国人) '!I18 -> -170 | J18: ='月報(日本人)'!J18+'月報(外国人) '!J18 -> -187
B19: 中央区 | C19: ='月報(日本人)'!C19+'月報(外国人) '!C19 -> 90608 | D19: ='月報(日本人)'!D19+'月報(外国人) '!D19 -> 111589 | E19: ='月報(日本人)'!E19+'月報(外国人) '!E19 -> 202197 | F19: ='月報(日本人)'!F19+'月報(外国人) '!F19 -> 126920 | G19: ='月報(日本人)'!G19+'月報(外国人) '!G19 -> 202255 | H19: ='月報(日本人)'!H19+'月報(外国人) '!H19 -> 126985 | I19: ='月報(日本人)'!I19+'月報(外国人) '!I19 -> -58 | J19: ='月報(日本人)'!J19+'月報(外国人) '!J19 -> -65
... B84: 県計 | C84: ='月報(日本人)'!C84+'月報(外国人) '!C84 -> 2415632 | D84: ='月報(日本人)'!D84+'月報(外国人) '!D84 -> 2652318 | E84: ='月報(日本人)'!E84+'月報(外国人) '!E84 -> 5067950 | F84: ='月報(日本人)'!F84+'月報(外国人) '!F84 -> 2608660 | G84: ='月報(日本人)'!G84+'月報(外国人) '!G84 -> 5069898 | H84: ='月報(日本人)'!H84+'月報(外国人) '!H84 -> 2609296 | I84: ='月報(日本人)'!I84+'月報(外国人) '!I84 -> -1948 | J84: ='月報(日本人)'!J84+'月報(外国人) '!J84 -> -636
